BEGIN:VCALENDAR
VERSION:2.0
PRODID:thewilsonhotel.com
X-WR-CALNAME:Calendar Of Events
X-WR-CALDESC:Lists the events
X-WR-TIMEZONE:America/New_York
BEGIN:VTIMEZONE
TZID:America/New_York
X-LIC-LOCATION:America/New_York
END:VTIMEZONE
BEGIN:VEVENT
UID:69e66872c78ba
DTSTART;VALUE=DATE:20250629
SEQUENCE:0
TRANSP:OPAQUE
URL:https://thewilsonhotel.com/explore-big-sky/the-wilson-events-calendar/s
 ip-savor-daily-happy-hour
SUMMARY:Daily Happy Hour
CLASS:PUBLIC
DESCRIPTION:Daily Happy Hour\n\nEnjoy 20% off select beer\, wine\, and well
  drinks daily from 2–5 PM at The Wilson Hotel.
RRULE:FREQ=WEEKLY;INTERVAL=1;BYDAY=MO,TU,WE,TH,FR,SA,SU
X-MICROSOFT-CDO-ALLDAYEVENT:TRUE
CATEGORIES:Events & Activities
DTSTAMP:20260420T175458Z
END:VEVENT
BEGIN:VEVENT
UID:69e66872c8886
DTSTART;VALUE=DATE:20260403
SEQUENCE:0
TRANSP:OPAQUE
URL:https://thewilsonhotel.com/explore-big-sky/the-wilson-events-calendar/b
 ridget-obrien-040326
SUMMARY:Bridget O'Brien
CLASS:PUBLIC
DESCRIPTION:Bridget O'Brien\n\nBridget O’Brien delivers powerful vocals a
 nd heartfelt songs shaped by folk\, soul\, and Americana roots.
RRULE:FREQ=DAILY;INTERVAL=1;UNTIL=20260403T000000Z
X-MICROSOFT-CDO-ALLDAYEVENT:TRUE
CATEGORIES:Live Music
DTSTAMP:20260420T175458Z
END:VEVENT
BEGIN:VEVENT
UID:69e66872c8e82
DTSTART;VALUE=DATE:20260410
SEQUENCE:0
TRANSP:OPAQUE
URL:https://thewilsonhotel.com/explore-big-sky/the-wilson-events-calendar/i
 saac-winemiller-jazz-trio-041026
SUMMARY:Isaac Winemiller Jazz Trio
CLASS:PUBLIC
DESCRIPTION:Isaac Winemiller Jazz Trio\n\n
RRULE:FREQ=DAILY;INTERVAL=1;UNTIL=20260410T000000Z
X-MICROSOFT-CDO-ALLDAYEVENT:TRUE
CATEGORIES:Live Music
DTSTAMP:20260420T175458Z
END:VEVENT
BEGIN:VEVENT
UID:69e66872c9790
DTSTART;VALUE=DATE:20260603
SEQUENCE:0
TRANSP:OPAQUE
URL:https://thewilsonhotel.com/explore-big-sky/the-wilson-events-calendar/b
 ig-sky-farmers-market
SUMMARY:Big Sky Farmers Market
CLASS:PUBLIC
DESCRIPTION:Big Sky Farmers Market\n\nJust steps from the hotel\, join us e
 very Wednesday from June through September\, 5–8 PM\, for fresh goods\, 
 local vendors\, etc.
RRULE:FREQ=WEEKLY;INTERVAL=1;UNTIL=20260930T000000Z;BYDAY=WE
X-MICROSOFT-CDO-ALLDAYEVENT:TRUE
DTSTAMP:20260420T175458Z
END:VEVENT
END:VCALENDAR